BEGIN:VCALENDAR
VERSION:2.0
PRODID:-//Minnesota Austin Healey Club - ECPv6.15.17.1//NONSGML v1.0//EN
CALSCALE:GREGORIAN
METHOD:PUBLISH
X-ORIGINAL-URL:https://www.mnhealey.com
X-WR-CALDESC:Events for Minnesota Austin Healey Club
REFRESH-INTERVAL;VALUE=DURATION:PT1H
X-Robots-Tag:noindex
X-PUBLISHED-TTL:PT1H
BEGIN:VTIMEZONE
TZID:America/Chicago
BEGIN:DAYLIGHT
TZOFFSETFROM:-0600
TZOFFSETTO:-0500
TZNAME:CDT
DTSTART:20240310T080000
END:DAYLIGHT
BEGIN:STANDARD
TZOFFSETFROM:-0500
TZOFFSETTO:-0600
TZNAME:CST
DTSTART:20241103T070000
END:STANDARD
BEGIN:DAYLIGHT
TZOFFSETFROM:-0600
TZOFFSETTO:-0500
TZNAME:CDT
DTSTART:20250309T080000
END:DAYLIGHT
BEGIN:STANDARD
TZOFFSETFROM:-0500
TZOFFSETTO:-0600
TZNAME:CST
DTSTART:20251102T070000
END:STANDARD
BEGIN:DAYLIGHT
TZOFFSETFROM:-0600
TZOFFSETTO:-0500
TZNAME:CDT
DTSTART:20260308T080000
END:DAYLIGHT
BEGIN:STANDARD
TZOFFSETFROM:-0500
TZOFFSETTO:-0600
TZNAME:CST
DTSTART:20261101T070000
END:STANDARD
END:VTIMEZONE
BEGIN:VEVENT
DTSTART;VALUE=DATE:20250515
DTEND;VALUE=DATE:20250518
DTSTAMP:20260420T005328
CREATED:20240128T214418Z
LAST-MODIFIED:20251210T181137Z
UID:1521-1747267200-1747526399@www.mnhealey.com
SUMMARY:SVRA Vintage Festival Weekend
DESCRIPTION:Road America has been sold\, so it is not yet clear whether this event will be held in 2025.
URL:https://www.mnhealey.com/event/svra-vintage-festival-weekend-2/
LOCATION:Elkhart Lake’s Road America\, N 7390 WI-67\, Plymouth\, WI\, 53073\, United States
END:VEVENT
END:VCALENDAR