BEGIN:VCALENDAR
VERSION:2.0
PRODID:-//Minnesota Austin Healey Club - ECPv6.15.17.1//NONSGML v1.0//EN
CALSCALE:GREGORIAN
METHOD:PUBLISH
X-WR-CALNAME:Minnesota Austin Healey Club
X-ORIGINAL-URL:https://www.mnhealey.com
X-WR-CALDESC:Events for Minnesota Austin Healey Club
REFRESH-INTERVAL;VALUE=DURATION:PT1H
X-Robots-Tag:noindex
X-PUBLISHED-TTL:PT1H
BEGIN:VTIMEZONE
TZID:America/Chicago
BEGIN:DAYLIGHT
TZOFFSETFROM:-0600
TZOFFSETTO:-0500
TZNAME:CDT
DTSTART:20240310T080000
END:DAYLIGHT
BEGIN:STANDARD
TZOFFSETFROM:-0500
TZOFFSETTO:-0600
TZNAME:CST
DTSTART:20241103T070000
END:STANDARD
BEGIN:DAYLIGHT
TZOFFSETFROM:-0600
TZOFFSETTO:-0500
TZNAME:CDT
DTSTART:20250309T080000
END:DAYLIGHT
BEGIN:STANDARD
TZOFFSETFROM:-0500
TZOFFSETTO:-0600
TZNAME:CST
DTSTART:20251102T070000
END:STANDARD
BEGIN:DAYLIGHT
TZOFFSETFROM:-0600
TZOFFSETTO:-0500
TZNAME:CDT
DTSTART:20260308T080000
END:DAYLIGHT
BEGIN:STANDARD
TZOFFSETFROM:-0500
TZOFFSETTO:-0600
TZNAME:CST
DTSTART:20261101T070000
END:STANDARD
END:VTIMEZONE
BEGIN:VEVENT
DTSTART;TZID=America/Chicago:20250607T080000
DTEND;TZID=America/Chicago:20250607T170000
DTSTAMP:20260420T022223
CREATED:20241215T205456Z
LAST-MODIFIED:20241217T224602Z
UID:1717-1749283200-1749315600@www.mnhealey.com
SUMMARY:Charley Klima Garage Tour
DESCRIPTION:This date is only a placeholder. The actual date is To Be Determined.
URL:https://www.mnhealey.com/event/charley-klima-garage-tour/
LOCATION:Charley Klima & Deb Ringwelski Home\, 2598 Stagecoach Trail\, Afton\, MN\, 55001\, United States
END:VEVENT
END:VCALENDAR