BEGIN:VCALENDAR
VERSION:2.0
PRODID:-//Minnesota Austin Healey Club - ECPv6.15.17.1//NONSGML v1.0//EN
CALSCALE:GREGORIAN
METHOD:PUBLISH
X-ORIGINAL-URL:https://www.mnhealey.com
X-WR-CALDESC:Events for Minnesota Austin Healey Club
REFRESH-INTERVAL;VALUE=DURATION:PT1H
X-Robots-Tag:noindex
X-PUBLISHED-TTL:PT1H
BEGIN:VTIMEZONE
TZID:America/Chicago
BEGIN:DAYLIGHT
TZOFFSETFROM:-0600
TZOFFSETTO:-0500
TZNAME:CDT
DTSTART:20240310T080000
END:DAYLIGHT
BEGIN:STANDARD
TZOFFSETFROM:-0500
TZOFFSETTO:-0600
TZNAME:CST
DTSTART:20241103T070000
END:STANDARD
BEGIN:DAYLIGHT
TZOFFSETFROM:-0600
TZOFFSETTO:-0500
TZNAME:CDT
DTSTART:20250309T080000
END:DAYLIGHT
BEGIN:STANDARD
TZOFFSETFROM:-0500
TZOFFSETTO:-0600
TZNAME:CST
DTSTART:20251102T070000
END:STANDARD
BEGIN:DAYLIGHT
TZOFFSETFROM:-0600
TZOFFSETTO:-0500
TZNAME:CDT
DTSTART:20260308T080000
END:DAYLIGHT
BEGIN:STANDARD
TZOFFSETFROM:-0500
TZOFFSETTO:-0600
TZNAME:CST
DTSTART:20261101T070000
END:STANDARD
END:VTIMEZONE
BEGIN:VEVENT
DTSTART;TZID=America/Chicago:20250628T090000
DTEND;TZID=America/Chicago:20250628T130000
DTSTAMP:20260420T022346
CREATED:20241215T193358Z
LAST-MODIFIED:20241215T193358Z
UID:1686-1751101200-1751115600@www.mnhealey.com
SUMMARY:Cars & Caves Show Italian Cars
DESCRIPTION:The Chanhassen AutoPlex sponsors Last Saturday Shows\, known as “Cars and Caves.” They are a typical car show including a variety of classic cars\, street rods\, and exotic cars. About 400 cars come through the gate on a nice day\, and there are a few hundred more cars on display in the garage condos at the Chanhassen AutoPlex. What makes these shows unique is the opportunity for folks to tour the many garage condos; each one has a different theme. The shows involve Food trucks\, sometimes music\, and/or other activities involved. The May show on Memorial Day weekend is the largest show of the year\, and it includes a military fly over. \nThey also have car shows on some Wednesday evenings; which they call “Summer Nights.” The dates are published on their website: https://chanhassenautoplex.com/ \nThere is no cost for the shows\, but they do ask for a freewill donation for a charity chosen for each show.
URL:https://www.mnhealey.com/event/cars-caves-show-italian-cars/
LOCATION:Chanhassen AutoPlex\, 1740 Motorplex Court\, Chanhassen\, MN\, 55317\, United States
END:VEVENT
BEGIN:VEVENT
DTSTART;TZID=America/Chicago:20250628T100000
DTEND;TZID=America/Chicago:20250628T140000
DTSTAMP:20260420T022346
CREATED:20250612T234232Z
LAST-MODIFIED:20250612T234232Z
UID:1922-1751104800-1751119200@www.mnhealey.com
SUMMARY:Charley Klima Open Garage
DESCRIPTION:Charley is hosting an open garage on Saturday June 28th at 10am. Although probably not as cool as a lot of other garages\, the highlight will be running my restored 7000-pound Kahlenberg hot bulb engine one last time before it heads off to its new home at the Door County (WI) Maritime Museum.  We will have coffee\, water and doughnuts.  Any and all “motorheads” are welcome.
URL:https://www.mnhealey.com/event/charley-klima-open-garage/
LOCATION:Charley Klima & Deb Ringwelski Home\, 2598 Stagecoach Trail\, Afton\, MN\, 55001\, United States
END:VEVENT
END:VCALENDAR