BEGIN:VCALENDAR
VERSION:2.0
PRODID:-//Minnesota Austin Healey Club - ECPv6.15.17.1//NONSGML v1.0//EN
CALSCALE:GREGORIAN
METHOD:PUBLISH
X-WR-CALNAME:Minnesota Austin Healey Club
X-ORIGINAL-URL:https://www.mnhealey.com
X-WR-CALDESC:Events for Minnesota Austin Healey Club
REFRESH-INTERVAL;VALUE=DURATION:PT1H
X-Robots-Tag:noindex
X-PUBLISHED-TTL:PT1H
BEGIN:VTIMEZONE
TZID:America/Chicago
BEGIN:DAYLIGHT
TZOFFSETFROM:-0600
TZOFFSETTO:-0500
TZNAME:CDT
DTSTART:20240310T080000
END:DAYLIGHT
BEGIN:STANDARD
TZOFFSETFROM:-0500
TZOFFSETTO:-0600
TZNAME:CST
DTSTART:20241103T070000
END:STANDARD
BEGIN:DAYLIGHT
TZOFFSETFROM:-0600
TZOFFSETTO:-0500
TZNAME:CDT
DTSTART:20250309T080000
END:DAYLIGHT
BEGIN:STANDARD
TZOFFSETFROM:-0500
TZOFFSETTO:-0600
TZNAME:CST
DTSTART:20251102T070000
END:STANDARD
BEGIN:DAYLIGHT
TZOFFSETFROM:-0600
TZOFFSETTO:-0500
TZNAME:CDT
DTSTART:20260308T080000
END:DAYLIGHT
BEGIN:STANDARD
TZOFFSETFROM:-0500
TZOFFSETTO:-0600
TZNAME:CST
DTSTART:20261101T070000
END:STANDARD
END:VTIMEZONE
BEGIN:VEVENT
DTSTART;TZID=America/Chicago:20250809T100000
DTEND;TZID=America/Chicago:20250809T120000
DTSTAMP:20260424T055700
CREATED:20230719T013650Z
LAST-MODIFIED:20241215T195122Z
UID:1483-1754733600-1754740800@www.mnhealey.com
SUMMARY:Britfest 2025
DESCRIPTION:Vintage British Cars & Motor Cycles\nPlus Ford Model A\nYellowstone Trail Classics \nFree Admission to Show Your Car \nThe areas Finest British Car Marques plus the Ford Model A Club\nBritish Bike Clubs/Owners are invited to participate!\nPeoples Choice Awards – Benefits YMCA Youth Program \nfor more information contact Buck Malick – 715 386 7010 – cmalick2@gmall.com
URL:https://www.mnhealey.com/event/britfest-2023/
LOCATION:Brit Fest\, Hudson\, WI\, Walnut Street\, 1st Street and Lakefront Park\, Hudson\, WI\, United States
END:VEVENT
END:VCALENDAR