BEGIN:VCALENDAR
VERSION:2.0
PRODID:-//Minnesota Austin Healey Club - ECPv6.15.17.1//NONSGML v1.0//EN
CALSCALE:GREGORIAN
METHOD:PUBLISH
X-ORIGINAL-URL:https://www.mnhealey.com
X-WR-CALDESC:Events for Minnesota Austin Healey Club
REFRESH-INTERVAL;VALUE=DURATION:PT1H
X-Robots-Tag:noindex
X-PUBLISHED-TTL:PT1H
BEGIN:VTIMEZONE
TZID:America/Chicago
BEGIN:DAYLIGHT
TZOFFSETFROM:-0600
TZOFFSETTO:-0500
TZNAME:CDT
DTSTART:20240310T080000
END:DAYLIGHT
BEGIN:STANDARD
TZOFFSETFROM:-0500
TZOFFSETTO:-0600
TZNAME:CST
DTSTART:20241103T070000
END:STANDARD
BEGIN:DAYLIGHT
TZOFFSETFROM:-0600
TZOFFSETTO:-0500
TZNAME:CDT
DTSTART:20250309T080000
END:DAYLIGHT
BEGIN:STANDARD
TZOFFSETFROM:-0500
TZOFFSETTO:-0600
TZNAME:CST
DTSTART:20251102T070000
END:STANDARD
BEGIN:DAYLIGHT
TZOFFSETFROM:-0600
TZOFFSETTO:-0500
TZNAME:CDT
DTSTART:20260308T080000
END:DAYLIGHT
BEGIN:STANDARD
TZOFFSETFROM:-0500
TZOFFSETTO:-0600
TZNAME:CST
DTSTART:20261101T070000
END:STANDARD
END:VTIMEZONE
BEGIN:VEVENT
DTSTART;TZID=America/Chicago:20251004T110000
DTEND;TZID=America/Chicago:20251004T170000
DTSTAMP:20260421T061347
CREATED:20240912T000307Z
LAST-MODIFIED:20251002T060626Z
UID:1636-1759575600-1759597200@www.mnhealey.com
SUMMARY:2025 Fall Color Tour
DESCRIPTION:Steve and Kim Rixen will be leading you on an approximately 55-mile of the scenic St. Croix Valley. \nDate and time: Saturday\, October 4 \nStarting point: We will start from the Rixen house\, 5995 Highview Place\, Shoreview. \n 
URL:https://www.mnhealey.com/event/2024-fall-color-tour/
LOCATION:Rixen Home\, 5995 Highview Place\, Shoreview\, MN\, 55126\, United States
END:VEVENT
END:VCALENDAR